BEGIN:VCALENDAR
VERSION:2.0
PRODID:-//ChamberMaster//Event Calendar 2.0//EN
METHOD:PUBLISH
X-PUBLISHED-TTL:P3D
REFRESH-INTERVAL:P3D
CALSCALE:GREGORIAN
BEGIN:VEVENT
DTSTART;VALUE=DATE:20210401
DTEND;VALUE=DATE:20210402
TRANSP:TRANSPARENT
X-MICROSOFT-CDO-ALLDAYEVENT:TRUE
SUMMARY:100 Cips Academy\, 4 week course for Small Business Owners
DESCRIPTION:PLEASE FULLY READ BEFORE REGISTERING\n\nWHAT\, WHEN\, & WHERE:\n\n100 Cups Academy - 4 Week Training Course\n\nDate - Starts April 1st and lasts 4 weeks\n\nTime - Calls will be 60 minutes at 11:00 am CST every Thursday using ZOOM\n\nWHO:\n\nTo participate in the 100 Cups Academy\, the following is strongly preferred:\n\n*You are a small business owner and you've been in business one year or longer\n\n*This is your full-time business and not a side hustle\n\n*You have a team of people that support you (employees/contractors and/or paid advisors)\n\n*You will make a 4-week commitment to attending the online workshops and not get "too busy" with life\n\n*You are willing to make a long term change in your approach to marketing and not looking for a quick fix to make extra money right this very second\n\nHOW:\n\nThis is a partnership between the TSBDC at Volunteer State Community College and 100 Cups Consulting and you will be required to register with each organization.\n\nYour reward for registering twice is a DEEPLY discounted program:).\n\n100 Cups Academy is normally $299.\n\nHowever\, this course is only $29\, with the help of SBA Cares Act Funding through the TSBDC!\n\nSpace is limited to 20 participants\, so act now!\n\nRegistration is required Only registered attendees will receive the information to join the Zoom meeting from 100 Cups Consulting\n\nPlease note that this is a live training\, and a recording will not be distributed.\n\n\nSpeaker(s): Jason Elkins - 100 Cups Consulting\n\nCo-Sponsor(s): TSBDC\n\nRegister Here\n \n\nFee: $ 29.00\n\nMust also register and pay here - https://100cups.coffee/100-cups-academy/
X-ALT-DESC;FMTTYPE=text/html:<div class="cdworkshopHTMLinfo" style="padding-top: 1em\; padding-bottom: 1em\; color: rgb(0\, 0\, 0)\; font-family: Arial\, Helvetica\, sans-serif\; font-size: 16px\;">\n<p><strong>PLEASE FULLY READ BEFORE REGISTERING</strong></p>\n\n<p><strong>WHAT\, WHEN\, &amp\; WHERE:</strong></p>\n\n<p>100 Cups Academy - 4 Week Training Course</p>\n\n<p>Date - Starts April 1st and lasts 4 weeks</p>\n\n<p>Time - Calls will be 60 minutes at 11:00 am CST every Thursday using ZOOM</p>\n\n<p><strong>WHO:</strong></p>\n\n<p>To participate in the 100 Cups Academy\, the following is strongly preferred:</p>\n\n<p>*You are a small business owner and you&#39\;ve been in business one year or longer</p>\n\n<p>*This is your full-time business and not a side hustle</p>\n\n<p>*You have a team of people that support you (employees/contractors and/or paid advisors)</p>\n\n<p>*You will make a 4-week commitment to attending the online workshops and not get &ldquo\;too busy&rdquo\; with life</p>\n\n<p>*You are willing to make a long term change in your approach to marketing and not looking for a quick fix to make extra money right this very second</p>\n\n<p><strong>HOW:</strong></p>\n\n<p>This is a partnership between the TSBDC at Volunteer State Community College and 100 Cups Consulting and you will be required to register with each organization.</p>\n\n<p>Your reward for registering twice is a DEEPLY discounted program:).</p>\n\n<p>100 Cups Academy is normally $299.</p>\n\n<p>However\, this course is only $29\, with the help of SBA Cares Act Funding through the TSBDC!</p>\n\n<p>Space is limited to 20 participants\, so act now!</p>\n\n<p><strong>Registration is required</strong>&nbsp\;Only registered attendees will receive the information to join the Zoom meeting from 100 Cups Consulting</p>\n\n<p>Please note that this is a live training\, and a recording will not be distributed.</p>\n</div>\n\n<p class="cdworkshoptextinfo" style="white-space: pre-wrap\; color: rgb(0\, 0\, 0)\; font-family: Arial\, Helvetica\, sans-serif\; font-size: 16px\;">Speaker(s): Jason Elkins - 100 Cups Consulting</p>\n\n<p class="cdworkshoptextinfo" style="white-space: pre-wrap\; color: rgb(0\, 0\, 0)\; font-family: Arial\, Helvetica\, sans-serif\; font-size: 16px\;">Co-Sponsor(s): TSBDC</p>\n\n<div style="color: rgb(0\, 0\, 0)\; font-family: Arial\, Helvetica\, sans-serif\; font-size: 16px\;"><a href="https://clients.tsbdc.org/reg.aspx?mode=event&amp\;event=53410016" target="_blank"><span style="font-size:18px\;"><strong>Register Here</strong></span></a></div>\n&nbsp\;\n\n<p style="color: rgb(0\, 0\, 0)\; font-family: Arial\, Helvetica\, sans-serif\; font-size: 16px\;">Fee: $ 29.00</p>\n\n<p style="color: rgb(0\, 0\, 0)\; font-family: Arial\, Helvetica\, sans-serif\; font-size: 16px\;"><span style="background-color:#FFFF00\;">Must also register and pay here - </span><a href="https://100cups.coffee/100-cups-academy/" target="_blank"><span style="background-color:#FFFF00\;">https://100cups.coffee/100-cups-academy/</span></a></p>\n
LOCATION:
UID:e.2544.9290
SEQUENCE:3
DTSTAMP:20260424T113155Z
URL:https://business.mjchamber.org/events/details/100-cips-academy-4-week-course-for-small-business-owners-9290
END:VEVENT

END:VCALENDAR
