BEGIN:VCALENDAR
VERSION:2.0
PRODID:-//ChamberMaster//Event Calendar 2.0//EN
METHOD:PUBLISH
X-PUBLISHED-TTL:P3D
REFRESH-INTERVAL:P3D
CALSCALE:GREGORIAN
BEGIN:VEVENT
DTSTART:20210805T160000Z
DTEND:20210805T170000Z
X-MICROSOFT-CDO-ALLDAYEVENT:FALSE
SUMMARY:100 Cups Academy\, 4 week course for Small Business Owners
DESCRIPTION:To participate in the 100 Cups Academy\, the following is strongly preferred:\n\n*You are a small business owner and you've been in business one year or longer\n\n*This is your full-time business and not a side hustle\n\n*You have a team of people that support you (employees/contractors and/or paid advisors)\n\n*You will make a 4-week commitment to attending the online workshops and not get "too busy" with life\n\n*You are willing to make a long term change in your approach to marketing and not looking for a quick fix to make extra money right this very second\n\nHOW:\n\nThis is a partnership between the TSBDC at Volunteer State Community College and 100 Cups Consulting and you will be required to register with each organization.\n\nYour reward for registering twice is a DEEPLY discounted program:).\n\n100 Cups Academy is normally $299.\n\nHowever\, this course is only $29\, with the help of SBA Cares Act Funding through the TSBDC!\n\nSpace is limited to 20 participants\, so act now!\n\nRegistration is required Only registered attendees will receive the information to join the Zoom meeting from 100 Cups Consulting\n\nPlease note that this is a live training\, and a recording will not be distributed.\n\n\nSpeaker(s): Jason Elkins - 100 Cups Consulting\n\nCo-Sponsor(s): TSBDC\n\n \n \n\nFee: $ 29.00\n\nMust also register and pay here - https://100cups.coffee/100-cups-academy/
X-ALT-DESC;FMTTYPE=text/html:<div class="cdworkshopHTMLinfo" style="padding-top: 1em\; padding-bottom: 1em\; color: rgb(0\, 0\, 0)\; font-family: Arial\, Helvetica\, sans-serif\; font-size: 16px\;">\n<p>To participate in the 100 Cups Academy\, the following is strongly preferred:</p>\n\n<p>*You are a small business owner and you&#39\;ve been in business one year or longer</p>\n\n<p>*This is your full-time business and not a side hustle</p>\n\n<p>*You have a team of people that support you (employees/contractors and/or paid advisors)</p>\n\n<p>*You will make a 4-week commitment to attending the online workshops and not get &ldquo\;too busy&rdquo\; with life</p>\n\n<p>*You are willing to make a long term change in your approach to marketing and not looking for a quick fix to make extra money right this very second</p>\n\n<p><strong>HOW:</strong></p>\n\n<p>This is a partnership between the TSBDC at Volunteer State Community College and 100 Cups Consulting and you will be required to register with each organization.</p>\n\n<p>Your reward for registering twice is a DEEPLY discounted program:).</p>\n\n<p>100 Cups Academy is normally $299.</p>\n\n<p>However\, this course is only $29\, with the help of SBA Cares Act Funding through the TSBDC!</p>\n\n<p>Space is limited to 20 participants\, so act now!</p>\n\n<p><strong>Registration is required</strong>&nbsp\;Only registered attendees will receive the information to join the Zoom meeting from 100 Cups Consulting</p>\n\n<p>Please note that this is a live training\, and a recording will not be distributed.</p>\n</div>\n\n<p class="cdworkshoptextinfo" style="white-space: pre-wrap\; color: rgb(0\, 0\, 0)\; font-family: Arial\, Helvetica\, sans-serif\; font-size: 16px\;">Speaker(s): Jason Elkins - 100 Cups Consulting</p>\n\n<p class="cdworkshoptextinfo" style="white-space: pre-wrap\; color: rgb(0\, 0\, 0)\; font-family: Arial\, Helvetica\, sans-serif\; font-size: 16px\;">Co-Sponsor(s): TSBDC</p>\n\n<div style="color: rgb(0\, 0\, 0)\; font-family: Arial\, Helvetica\, sans-serif\; font-size: 16px\;">&nbsp\;</div>\n&nbsp\;\n\n<p style="color: rgb(0\, 0\, 0)\; font-family: Arial\, Helvetica\, sans-serif\; font-size: 16px\;">Fee: $ 29.00</p>\n\n<p style="color: rgb(0\, 0\, 0)\; font-family: Arial\, Helvetica\, sans-serif\; font-size: 16px\;">Must also register and pay here - <a href="https://100cups.coffee/100-cups-academy/" target="_blank">https://100cups.coffee/100-cups-academy/</a></p>\n
LOCATION:
UID:e.2544.10166
SEQUENCE:3
DTSTAMP:20260424T182039Z
URL:https://business.mjchamber.org/events/details/100-cups-academy-4-week-course-for-small-business-owners-10166
END:VEVENT

END:VCALENDAR
