BEGIN:VCALENDAR
VERSION:2.0
PRODID:-//ChamberMaster//Event Calendar 2.0//EN
METHOD:PUBLISH
X-PUBLISHED-TTL:P3D
REFRESH-INTERVAL:P3D
CALSCALE:GREGORIAN
BEGIN:VEVENT
DTSTART;VALUE=DATE:20220527
DTEND;VALUE=DATE:20220531
TRANSP:TRANSPARENT
X-MICROSOFT-CDO-ALLDAYEVENT:TRUE
SUMMARY:10th Annual Honoring America's Flag
DESCRIPTION:The Exchange Club of West Wilson County and the American Legion Post 281 will be displaying 250 flags over the Memorial Day Weekend to celebrate the Red\, White & Blue United States of America Flag. Sponsorships are available and individual flags can also be purchased for $30.
X-ALT-DESC;FMTTYPE=text/html:The Exchange Club of West Wilson County and the American Legion Post 281 will be displaying 250 flags over the Memorial Day Weekend to celebrate the Red\, White &amp\; Blue United States of America Flag. Sponsorships are available and individual flags can also be purchased for $30.
LOCATION:Town Clock Center at the Mt Juliet Train Station East Division and N Mt. Juliet Road
UID:e.2544.10909
SEQUENCE:3
DTSTAMP:20260424T025518Z
URL:https://business.mjchamber.org/events/details/10th-annual-honoring-america-s-flag-10909
END:VEVENT

END:VCALENDAR
