BEGIN:VCALENDAR
VERSION:2.0
PRODID:-//ChamberMaster//Event Calendar 2.0//EN
METHOD:PUBLISH
X-PUBLISHED-TTL:P3D
REFRESH-INTERVAL:P3D
CALSCALE:GREGORIAN
BEGIN:VEVENT
DTSTART:20260513T153000Z
DTEND:20260513T193000Z
X-MICROSOFT-CDO-ALLDAYEVENT:FALSE
SUMMARY:125th Spring Outing
DESCRIPTION:Join us on May 13\, 2026 for Spring Outing\, a cherished tradition at Andrew Jackson's Hermitage. This annual luncheon on the lawn supports the ongoing preservation and operation of this historic site. This year is especially meaningful as we celebrate 125 years of Spring Outing alongside the 250th anniversary of the United States. It's a moment to honor the visionary women who founded the Ladies' Hermitage Association in 1889 and those who have carried its mission forward. This year\, we are excited to have former CBS news anchor\, Norah O'Donnell and author and historian\, Kate Andersen Brower as our keynote speakers. They will be discussing their new book We The Women: The Hidden Heroes Who Shaped America\, a groundbreaking book that uncovers the hidden heroines of American history   women who shaped the nation's path but were long overlooked.
X-ALT-DESC;FMTTYPE=text/html:Join us on May 13\, 2026 for Spring Outing\, a cherished tradition at Andrew Jackson&rsquo\;s Hermitage. This annual luncheon on the lawn supports the ongoing preservation and operation of this historic site. This year is especially meaningful as we celebrate 125 years of Spring Outing alongside the 250th anniversary of the United States. It&rsquo\;s a moment to honor the visionary women who founded the Ladies&rsquo\; Hermitage Association in 1889 and those who have carried its mission forward. This year\, we are excited to have former CBS news anchor\, Norah O&rsquo\;Donnell and author and historian\, Kate Andersen Brower as our keynote speakers. They will be discussing their new book We The Women: The Hidden Heroes Who Shaped America\, a groundbreaking book that uncovers the hidden heroines of American history &ndash\; women who shaped the nation&rsquo\;s path but were long overlooked.
LOCATION:4580 Rachel's Ln.\, Hermitage\, TN 37076
UID:e.2544.14476
SEQUENCE:3
DTSTAMP:20260424T185529Z
URL:https://business.mjchamber.org/events/details/125th-spring-outing-14476
END:VEVENT

END:VCALENDAR
