BEGIN:VCALENDAR
VERSION:2.0
PRODID:-//ChamberMaster//Event Calendar 2.0//EN
METHOD:PUBLISH
X-PUBLISHED-TTL:P3D
REFRESH-INTERVAL:P3D
CALSCALE:GREGORIAN
BEGIN:VEVENT
DTSTART:20220423T233000Z
DTEND:20220424T023000Z
X-MICROSOFT-CDO-ALLDAYEVENT:FALSE
SUMMARY:12th Annual Chocolate Affair
DESCRIPTION:The 15th Judicial District Child Advocacy Center Board of Directors and staff is excited to announce that our 12th Annual Chocolate Affair will be held Saturday\, April 23\, 2022\, 6:30 pm - 9:30 pm at the Capitol Theater in Lebanon\, TN. The Chocolate Affair is our annual fundraiser to support the mission of the 15th Judicial District Child Advocacy Center. ? Audience of One will provide our entertainment for "WIZARD OF OZ." We will also have a silent and live auction. Wildberry Catering will cater our sit-down dinner and provide a wonderful Chocolate Buffett. Come dressed in your favorite Wizard of Oz theme.
X-ALT-DESC;FMTTYPE=text/html:The 15th Judicial District Child Advocacy Center Board of Directors and staff is excited to announce that our 12th Annual Chocolate Affair will be held Saturday\, April 23\, 2022\, 6:30 pm - 9:30 pm at the Capitol Theater in Lebanon\, TN. The Chocolate Affair is our annual fundraiser to support the mission of the 15th Judicial District Child Advocacy Center. ? Audience of One will provide our entertainment for &quot\;WIZARD OF OZ.&quot\; We will also have a silent and live auction. Wildberry Catering will cater our sit-down dinner and provide a wonderful Chocolate Buffett. Come dressed in your favorite Wizard of Oz theme.
LOCATION:Capitol Theater in Lebanon\, TN
UID:e.2544.10921
SEQUENCE:3
DTSTAMP:20260424T050236Z
URL:https://business.mjchamber.org/events/details/12th-annual-chocolate-affair-10921
END:VEVENT

END:VCALENDAR
