BEGIN:VCALENDAR
VERSION:2.0
PRODID:-//ChamberMaster//Event Calendar 2.0//EN
METHOD:PUBLISH
X-PUBLISHED-TTL:P3D
REFRESH-INTERVAL:P3D
CALSCALE:GREGORIAN
BEGIN:VEVENT
DTSTART:20211005T170000Z
DTEND:20211005T170000Z
X-MICROSOFT-CDO-ALLDAYEVENT:FALSE
SUMMARY:13th Annual Habitat for Humanity Wilson County Golf Challange
DESCRIPTION:Support Habitat's work in Wilson County by participating in the 13th Annual Golf Challenge! Individuals and teams are welcome. Sponsorship opportunities available for local businesses and companies. Check website for what is included in each sponsorship!
X-ALT-DESC;FMTTYPE=text/html:Support Habitat&#39\;s work in Wilson County by participating in the 13th Annual Golf Challenge! Individuals and teams are welcome. Sponsorship opportunities available for local businesses and companies. Check website for what is included in each sponsorship!
LOCATION:
UID:e.2544.9300
SEQUENCE:3
DTSTAMP:20260424T161907Z
URL:https://business.mjchamber.org/events/details/13th-annual-habitat-for-humanity-wilson-county-golf-challange-9300
END:VEVENT

END:VCALENDAR
