BEGIN:VCALENDAR
VERSION:2.0
PRODID:-//ChamberMaster//Event Calendar 2.0//EN
METHOD:PUBLISH
X-PUBLISHED-TTL:P3D
REFRESH-INTERVAL:P3D
CALSCALE:GREGORIAN
BEGIN:VEVENT
DTSTART:20110804T140000Z
DTEND:20110804T163000Z
X-MICROSOFT-CDO-ALLDAYEVENT:FALSE
SUMMARY:2011 Middle Tennessee Stakeholders Forum
DESCRIPTION:Presented by the IRS in partnership with TN ECD/BERO. The focus this year is Small Business Programs from the State and SBA. A highlight will be the TN Small Business Environmental Assistance Programs.  Learn how Tennessee works to provide technical and regulatory support for small businesses. \nFor more information\, contact Alison Broady\, (615) 250-5765.
X-ALT-DESC;FMTTYPE=text/html:Presented by the IRS in partnership with TN ECD/BERO. The focus this year is Small Business Programs from the State and SBA. A highlight will be the TN Small Business Environmental Assistance Programs.  Learn how Tennessee works to provide technical and regulatory support for small businesses. \nFor more information\, contact Alison Broady\, (615) 250-5765.
LOCATION:National Business Incubation Center 315 10th Avenue N Suite A Nashville\, TN 37203
UID:e.2544.75
SEQUENCE:3
DTSTAMP:20260420T113506Z
URL:https://business.mjchamber.org/events/details/2011-middle-tennessee-stakeholders-forum-08-04-2011-75
END:VEVENT

END:VCALENDAR
