BEGIN:VCALENDAR
VERSION:2.0
PRODID:-//ChamberMaster//Event Calendar 2.0//EN
METHOD:PUBLISH
X-PUBLISHED-TTL:P3D
REFRESH-INTERVAL:P3D
CALSCALE:GREGORIAN
BEGIN:VEVENT
DTSTART:20120331T131500Z
DTEND:20120331T050000Z
X-MICROSOFT-CDO-ALLDAYEVENT:FALSE
SUMMARY:2nd Annual Ava's Run for a Reason
DESCRIPTION:5k and 1 Mile Fun Run. All proceeds benefit the Avalyn Shaye Foundation\, Inc and will be used to build a splash pad at Charlie Daniels Park. Lots of kid activities\, entertainment and food on the day of the event. 5k is a USATF-Certified Course TN11017MS\nRegister at Active.com Keyword: Ava's Run\nFor more information visit www.avalynshayefoundation.org
X-ALT-DESC;FMTTYPE=text/html:5k and 1 Mile Fun Run. All proceeds benefit the Avalyn Shaye Foundation\, Inc and will be used to build a splash pad at Charlie Daniels Park. Lots of kid activities\, entertainment and food on the day of the event. 5k is a USATF-Certified Course TN11017MS\nRegister at Active.com Keyword: Ava's Run\nFor more information visit www.avalynshayefoundation.org
LOCATION:1100 Charlie Daniels Parkway\, Mt. Juliet\, TN 37122 Run starts at Charlie Daniels Park and end there as well. Visit active.com to view route.
UID:e.2544.241
SEQUENCE:3
DTSTAMP:20260419T213518Z
URL:https://business.mjchamber.org/events/details/2nd-annual-ava-s-run-for-a-reason-03-31-2012-241
END:VEVENT

END:VCALENDAR
