BEGIN:VCALENDAR
VERSION:2.0
PRODID:-//ChamberMaster//Event Calendar 2.0//EN
METHOD:PUBLISH
X-PUBLISHED-TTL:P3D
REFRESH-INTERVAL:P3D
CALSCALE:GREGORIAN
BEGIN:VEVENT
DTSTART:20110709T210000Z
DTEND:20110710T020000Z
X-MICROSOFT-CDO-ALLDAYEVENT:FALSE
SUMMARY:2nd Saturday at Fiddlers Grove
DESCRIPTION:Take a step back in time at Fiddlers Grove with tours of life at the turn of the century beginning at 4:00. The day will end with "Bluegrass in the Grove" from 6-9:00 p.m.
X-ALT-DESC;FMTTYPE=text/html:Take a step back in time at Fiddlers Grove with tours of life at the turn of the century beginning at 4:00. The day will end with "Bluegrass in the Grove" from 6-9:00 p.m.
LOCATION:James E. Ward Ag Center 945 Baddour Parkway Lebanon\, TN 37087
UID:e.2544.67
SEQUENCE:3
DTSTAMP:20260420T114051Z
URL:https://business.mjchamber.org/events/details/2nd-saturday-at-fiddlers-grove-07-09-2011-67
END:VEVENT

END:VCALENDAR
