BEGIN:VCALENDAR
VERSION:2.0
PRODID:-//ChamberMaster//Event Calendar 2.0//EN
METHOD:PUBLISH
X-PUBLISHED-TTL:P3D
REFRESH-INTERVAL:P3D
CALSCALE:GREGORIAN
BEGIN:VEVENT
DTSTART:20120721T140000Z
DTEND:20120721T180000Z
X-MICROSOFT-CDO-ALLDAYEVENT:FALSE
SUMMARY:5th Annual Benefit Concert & Silent Auction Benefitting Restoration Community Outreach
DESCRIPTION:FREE Music Extravaganza featuring Bill Feathers' Apple Fretters\, Floyd & Alita Allen\, Zachary Allen & Born for This\nSilent Auction\, Door Prizes\, Music and more!
X-ALT-DESC;FMTTYPE=text/html:FREE Music Extravaganza featuring Bill Feathers' Apple Fretters\, Floyd & Alita Allen\, Zachary Allen & Born for This\nSilent Auction\, Door Prizes\, Music and more! 
LOCATION:Abundant Life Church\, Mt. Juliet\, TN 37122
UID:e.2544.314
SEQUENCE:3
DTSTAMP:20260423T123938Z
URL:https://business.mjchamber.org/events/details/5th-annual-benefit-concert-silent-auction-benefitting-restoration-community-outreach-07-21-2012-314
END:VEVENT

END:VCALENDAR
