BEGIN:VCALENDAR
VERSION:2.0
PRODID:-//ChamberMaster//Event Calendar 2.0//EN
METHOD:PUBLISH
X-PUBLISHED-TTL:P3D
REFRESH-INTERVAL:P3D
CALSCALE:GREGORIAN
BEGIN:VEVENT
DTSTART:20210814T190000Z
DTEND:20210814T220000Z
X-MICROSOFT-CDO-ALLDAYEVENT:FALSE
SUMMARY:8th Annual Amazing Race Mt. Juliet
DESCRIPTION:Support local nonprofit Grace and Glory by racing around Mt. Juliet letting clues lead the way! Fun\, fast paced race with challenges galore! All proceeds benefit Grace and Glory Academy in Haiti. Family and Adult Team registrations available. Winners in each category.
X-ALT-DESC;FMTTYPE=text/html:Support local nonprofit Grace and Glory by racing around Mt. Juliet letting clues lead the way! Fun\, fast paced race with challenges galore! All proceeds benefit Grace and Glory Academy in Haiti. Family and Adult Team registrations available. Winners in each category.
LOCATION:Mt. Juliet
UID:e.2544.10134
SEQUENCE:3
DTSTAMP:20260424T182049Z
URL:https://business.mjchamber.org/events/details/8th-annual-amazing-race-mt-juliet-10134
END:VEVENT

END:VCALENDAR
