BEGIN:VCALENDAR
VERSION:2.0
PRODID:-//ChamberMaster//Event Calendar 2.0//EN
METHOD:PUBLISH
X-PUBLISHED-TTL:P3D
REFRESH-INTERVAL:P3D
CALSCALE:GREGORIAN
BEGIN:VEVENT
DTSTART:20220825T144500Z
DTEND:20220825T153000Z
X-MICROSOFT-CDO-ALLDAYEVENT:FALSE
SUMMARY:A Cup of YOUR Chamber
DESCRIPTION:Have you been a member for 30 years or 30 days? Do you know what Your Chamber benefits are or even what programs we offer? Please join Your Chamber staff and some of Your Chamber board members to find out what Your chamber offers you and your business.
X-ALT-DESC;FMTTYPE=text/html:<div style="text-align: center\;"><strong><span style="font-size:16px\;"><span style="font-family:tahoma\;"><span style="font-family:verdana\;">Have you been a member for 30 years or 30 days? Do you know what Your Chamber benefits are or even what programs we offer? Please join Your Chamber staff and some of Your Chamber board members to find out what Your chamber offers you and your business.</span>&nbsp\;</span></span></strong></div>\n
LOCATION:Mt. Juliet Chamber of Commerce 2055 N. Mt Juliet Road Suite 200 (Across the street from the Train Station)
UID:e.2544.11706
SEQUENCE:3
DTSTAMP:20260424T011658Z
URL:https://business.mjchamber.org/events/details/a-cup-of-your-chamber-11706
END:VEVENT

END:VCALENDAR
