BEGIN:VCALENDAR
VERSION:2.0
PRODID:-//ChamberMaster//Event Calendar 2.0//EN
METHOD:PUBLISH
X-PUBLISHED-TTL:P3D
REFRESH-INTERVAL:P3D
CALSCALE:GREGORIAN
BEGIN:VEVENT
DTSTART:20230218T140000Z
DTEND:20230218T170000Z
X-MICROSOFT-CDO-ALLDAYEVENT:FALSE
SUMMARY:A Walk to Remember Ashley McClain
DESCRIPTION:Ashley McClain was an extraordinary wife and mom of 3. Her legacy of connecting with others will live on through her children and those who loved her. The proceeds of the walk will go to her beloved husband and 3 children.
X-ALT-DESC;FMTTYPE=text/html:Ashley McClain was an extraordinary wife and mom of 3. Her legacy of connecting with others will live on through her children and those who loved her. The proceeds of the walk will go to her beloved husband and 3 children.
LOCATION:Willoughby Station Common Area
UID:e.2544.12212
SEQUENCE:3
DTSTAMP:20260423T122124Z
URL:https://business.mjchamber.org/events/details/a-walk-to-remember-ashley-mcclain-12212
END:VEVENT

END:VCALENDAR
