BEGIN:VCALENDAR
VERSION:2.0
PRODID:-//ChamberMaster//Event Calendar 2.0//EN
METHOD:PUBLISH
X-PUBLISHED-TTL:P3D
REFRESH-INTERVAL:P3D
CALSCALE:GREGORIAN
BEGIN:VEVENT
DTSTART:20210828T180000Z
DTEND:20210828T200000Z
X-MICROSOFT-CDO-ALLDAYEVENT:FALSE
SUMMARY:AIM Clinics Grand Opening Celebration
DESCRIPTION:Autism in Motion (AIM) Clinics will host a grand opening community jamboree to celebrate its 6\,900 sq. ft. cutting-edge clinic at 854 N Mt. Juliet Road\, Mt. Juliet\, TN 37122. Saturday August 28th from 1-3PM. The AIM Clinics Mt. Juliet Grand Opening Jamboree is open to the public and is free for all community members. There will be train rides\, outdoor games\, ice cream treats\, balloon twisting and face painting. There will also be fun children's musical activities provided by Musical Bridges Music Therapy. Families can have fun learning about ABA therapy and see how it can help children with autism. We Rock the Spectrum Gym will be in attendance to share more about their new autism-friendly indoor playground opening soon in Franklin\, TN. Other community partners will offer additional special needs resources for families.
X-ALT-DESC;FMTTYPE=text/html:Autism in Motion (AIM) Clinics will host a grand opening community jamboree to celebrate its 6\,900 sq. ft. cutting-edge clinic at 854 N Mt. Juliet Road\, Mt. Juliet\, TN 37122. Saturday August 28th from 1-3PM. The AIM Clinics Mt. Juliet Grand Opening Jamboree is open to the public and is free for all community members. There will be train rides\, outdoor games\, ice cream treats\, balloon twisting and face painting. There will also be fun children&rsquo\;s musical activities provided by Musical Bridges Music Therapy. Families can have fun learning about ABA therapy and see how it can help children with autism. We Rock the Spectrum Gym will be in attendance to share more about their new autism-friendly indoor playground opening soon in Franklin\, TN. Other community partners will offer additional special needs resources for families.
LOCATION:AIM Clinics 854 N Mt. Juliet Rd. Mt. Juliet\, TN 37122
UID:e.2544.10222
SEQUENCE:3
DTSTAMP:20260424T181845Z
URL:https://business.mjchamber.org/events/details/aim-clinics-grand-opening-celebration-10222
END:VEVENT

END:VCALENDAR
