BEGIN:VCALENDAR
VERSION:2.0
PRODID:-//ChamberMaster//Event Calendar 2.0//EN
METHOD:PUBLISH
X-PUBLISHED-TTL:P3D
REFRESH-INTERVAL:P3D
CALSCALE:GREGORIAN
BEGIN:VEVENT
DTSTART;VALUE=DATE:20211101
DTEND;VALUE=DATE:20211102
TRANSP:TRANSPARENT
X-MICROSOFT-CDO-ALLDAYEVENT:TRUE
SUMMARY:Annual Holiday Atwell Pecan Sale
DESCRIPTION:Fresh Georgia Atwell Pecans are sold during the Holiday Baking season by the Exchange Club of West Wilson County.  All proceeds are awarded to local high school seniors for assistance in advancing their education.
X-ALT-DESC;FMTTYPE=text/html:Fresh Georgia Atwell Pecans are sold during the Holiday Baking season by the Exchange Club of West Wilson County.&nbsp\; All proceeds are awarded&nbsp\;to local high school seniors for assistance in advancing their education.
LOCATION:
UID:e.2544.9950
SEQUENCE:3
DTSTAMP:20260424T142147Z
URL:https://business.mjchamber.org/events/details/annual-holiday-atwell-pecan-sale-9950
END:VEVENT

END:VCALENDAR
