BEGIN:VCALENDAR
VERSION:2.0
PRODID:-//ChamberMaster//Event Calendar 2.0//EN
METHOD:PUBLISH
X-PUBLISHED-TTL:P3D
REFRESH-INTERVAL:P3D
CALSCALE:GREGORIAN
BEGIN:VEVENT
DTSTART:20111028T160000Z
DTEND:20111029T000000Z
X-MICROSOFT-CDO-ALLDAYEVENT:FALSE
SUMMARY:Annual Spaghetti Day
DESCRIPTION:Annual Spaghetti Lunch & Dinner\n11AM - 2PM & 4PM - 7PM\nMenu\nTossed Salad\nSpaghetti with Meat Sauce\nGarlic Bread\, Dessert\, Beverage\n$7 Adults    $4 Kinds under 10
X-ALT-DESC;FMTTYPE=text/html:Annual Spaghetti Lunch & Dinner\n11AM - 2PM & 4PM - 7PM\nMenu\nTossed Salad\nSpaghetti with Meat Sauce\nGarlic Bread\, Dessert\, Beverage\n$7 Adults    $4 Kinds under 10
LOCATION:2034 North Mt. Juliet Rd.\, Mt. Juliet\, TN 37122 Mt. Juliet Senior Activity Center 2034 North Mt. Juliet Road Mt. Juliet\, TN 37122
UID:e.2544.132
SEQUENCE:3
DTSTAMP:20260420T063146Z
URL:https://business.mjchamber.org/events/details/annual-spaghetti-day-10-28-2011-132
END:VEVENT

END:VCALENDAR
