BEGIN:VCALENDAR
VERSION:2.0
PRODID:-//ChamberMaster//Event Calendar 2.0//EN
METHOD:PUBLISH
X-PUBLISHED-TTL:P3D
REFRESH-INTERVAL:P3D
CALSCALE:GREGORIAN
BEGIN:VEVENT
DTSTART:20120628T230000Z
DTEND:20120629T010000Z
X-MICROSOFT-CDO-ALLDAYEVENT:FALSE
SUMMARY:Artist Alley Show and Wine Tasting
DESCRIPTION:Art Opening and Wine Tasting Every 4th Thursday
X-ALT-DESC;FMTTYPE=text/html:Art Opening and Wine Tasting Every 4th Thursday
LOCATION:300 N. Maple Street\, Lebanon\, Te 37087 Directly across from The Music City Star station in Lebanon
UID:e.2544.307
SEQUENCE:3
DTSTAMP:20260419T183854Z
URL:https://business.mjchamber.org/events/details/artist-alley-show-and-wine-tasting-06-28-2012-307
END:VEVENT

END:VCALENDAR
