BEGIN:VCALENDAR
VERSION:2.0
PRODID:-//ChamberMaster//Event Calendar 2.0//EN
METHOD:PUBLISH
X-PUBLISHED-TTL:P3D
REFRESH-INTERVAL:P3D
CALSCALE:GREGORIAN
BEGIN:VEVENT
DTSTART:20120726T230000Z
DTEND:20120727T010000Z
X-MICROSOFT-CDO-ALLDAYEVENT:FALSE
SUMMARY:Artist Alley Show and Wine Tasting
DESCRIPTION:Diane Deason: Diane has been painting for about 20 years. What began as a stress reliever while being a caregiver for her invalid Mother\, has become a journey of her soul inspired by her Maker. Diane absolutely believes her ability is a gift from God\, given to her to make her life more peaceful and stress free. Some of the places she has shown are: The National Kidney Foundation Fundraiser\, The 50 Forward One Man Show and several small Art shows inclusive of The St Stephen's Fall Art Show. Diane's style is considered to be "Photo-Realism"\, as named by an art professor at Peabody College. While Diane can and will paint all things\, she specializes in the God's Animal Creations.
X-ALT-DESC;FMTTYPE=text/html:Diane Deason: Diane has been painting for about 20 years. What began as a stress reliever while being a caregiver for her invalid Mother\, has become a journey of her soul inspired by her Maker. Diane absolutely believes her ability is a gift from God\, given to her to make her life more peaceful and stress free. Some of the places she has shown are: The National Kidney Foundation Fundraiser\, The 50 Forward One Man Show and several small Art shows inclusive of The St Stephen's Fall Art Show. Diane's style is considered to be "Photo-Realism"\, as named by an art professor at Peabody College. While Diane can and will paint all things\, she specializes in the God's Animal Creations.
LOCATION:The Mill at Lebanon\, Lebanon\, TN 37087 The Mill at Lebanon is located directly across the street from the Music City Star rail station and is a block off of Baddour Parkway.
UID:e.2544.323
SEQUENCE:3
DTSTAMP:20260423T123816Z
URL:https://business.mjchamber.org/events/details/artist-alley-show-and-wine-tasting-07-26-2012-323
END:VEVENT

END:VCALENDAR
