BEGIN:VCALENDAR
VERSION:2.0
PRODID:-//ChamberMaster//Event Calendar 2.0//EN
METHOD:PUBLISH
X-PUBLISHED-TTL:P3D
REFRESH-INTERVAL:P3D
CALSCALE:GREGORIAN
BEGIN:VEVENT
DTSTART:20210619T150000Z
DTEND:20210619T200000Z
X-MICROSOFT-CDO-ALLDAYEVENT:FALSE
SUMMARY:Auction on the Square
DESCRIPTION:Come and shop on the Lebanon Square ! Food trucks\, Inflatables\, and Music. Some of the area stores will have donations inside their stores for you to bid on using the ClickBid App! Super easy\, instructions will be provided! As well as cash and carry items for $5 and $10! Saturday\, June 19\, 2021 10am-3pm! All proceeds benefit The Tyler McChurch Memorial Foundation established through Cumberland University for Scholarships\, All Youth Football Sports in Wilson County\, and Empower Me.
X-ALT-DESC;FMTTYPE=text/html:Come and shop on the Lebanon Square ! Food trucks\, Inflatables\, and Music. Some of the area stores will have donations inside their stores for you to bid on using the ClickBid App! Super easy\, instructions will be provided! As well as cash and carry items for $5 and $10! Saturday\, June 19\, 2021 10am-3pm! All proceeds benefit The Tyler McChurch Memorial Foundation established through Cumberland University for Scholarships\, All Youth Football Sports in Wilson County\, and Empower Me.
LOCATION:Lebanon Square
UID:e.2544.10065
SEQUENCE:3
DTSTAMP:20260424T145535Z
URL:https://business.mjchamber.org/events/details/auction-on-the-square-10065
END:VEVENT

END:VCALENDAR
