BEGIN:VCALENDAR
VERSION:2.0
PRODID:-//ChamberMaster//Event Calendar 2.0//EN
METHOD:PUBLISH
X-PUBLISHED-TTL:P3D
REFRESH-INTERVAL:P3D
CALSCALE:GREGORIAN
BEGIN:VEVENT
DTSTART:20120511T140000Z
DTEND:20120511T170000Z
X-MICROSOFT-CDO-ALLDAYEVENT:FALSE
SUMMARY:Ava Shay Bright Foundation Complete Car Wash Event
DESCRIPTION:Come help ServiceMaster support the Avalyn Shaye Foundation with a ServiceMaster Clean car washing experience\, exterior cleaning\, upholstery cleaning\, and refreshments! Come join us at the Regions Bank on N Mt Juliet Rd at Lebanon Rd.
X-ALT-DESC;FMTTYPE=text/html:Come help ServiceMaster support the Avalyn Shaye Foundation with a ServiceMaster Clean car washing experience\, exterior cleaning\, upholstery cleaning\, and refreshments! Come join us at the Regions Bank on N Mt Juliet Rd at Lebanon Rd. 
LOCATION:4116 N Mt Juliet Rd\, \, Mt Juliet\, TN 37122 Regions Bank
UID:e.2544.520
SEQUENCE:3
DTSTAMP:20260419T181538Z
URL:https://business.mjchamber.org/events/details/ava-shay-bright-foundation-complete-car-wash-event-05-11-2012-520
END:VEVENT

END:VCALENDAR
