BEGIN:VCALENDAR
VERSION:2.0
PRODID:-//ChamberMaster//Event Calendar 2.0//EN
METHOD:PUBLISH
X-PUBLISHED-TTL:P3D
REFRESH-INTERVAL:P3D
CALSCALE:GREGORIAN
BEGIN:VEVENT
DTSTART:20220514T180000Z
DTEND:20220514T210000Z
X-MICROSOFT-CDO-ALLDAYEVENT:FALSE
SUMMARY:Back Nine Part
DESCRIPTION:Food\, drinks\, and special guest Darryl Worley. Fundraising for Tunnel to Towers
X-ALT-DESC;FMTTYPE=text/html:Food\, drinks\, and special guest Darryl Worley. Fundraising for Tunnel to Towers
LOCATION:John A's 2421 Music Valley Dr. Nashville\, Tn 37214
UID:e.2544.10994
SEQUENCE:3
DTSTAMP:20260424T045343Z
URL:https://business.mjchamber.org/events/details/back-nine-part-10994
END:VEVENT

END:VCALENDAR
