BEGIN:VCALENDAR
VERSION:2.0
PRODID:-//ChamberMaster//Event Calendar 2.0//EN
METHOD:PUBLISH
X-PUBLISHED-TTL:P3D
REFRESH-INTERVAL:P3D
CALSCALE:GREGORIAN
BEGIN:VEVENT
DTSTART:20220801T210000Z
DTEND:20220801T230000Z
X-MICROSOFT-CDO-ALLDAYEVENT:FALSE
SUMMARY:Back to School Bash
DESCRIPTION:Preferred Rate of TN would like to invited you to a FREE Event! Come enjoy Kona Ice\, inflatables and games. Everyone is welcome! A Big Thank You to our sponsor Birthright Title!
X-ALT-DESC;FMTTYPE=text/html:Preferred Rate of TN would like to invited you to a FREE Event! Come enjoy Kona Ice\, inflatables and games. Everyone is welcome! A Big Thank You to our sponsor Birthright Title!
LOCATION:Mt. Juliet Chamber of Commerce Parking Lot
UID:e.2544.11705
SEQUENCE:3
DTSTAMP:20260423T231347Z
URL:https://business.mjchamber.org/events/details/back-to-school-bash-11705
END:VEVENT

END:VCALENDAR
