BEGIN:VCALENDAR
VERSION:2.0
PRODID:-//ChamberMaster//Event Calendar 2.0//EN
METHOD:PUBLISH
X-PUBLISHED-TTL:P3D
REFRESH-INTERVAL:P3D
CALSCALE:GREGORIAN
BEGIN:VEVENT
DTSTART:20220625T150000Z
DTEND:20220625T170000Z
X-MICROSOFT-CDO-ALLDAYEVENT:FALSE
SUMMARY:Barks and Recreation
DESCRIPTION:The Huffaker Group is hosting Barks and Recreation\, a community event at the Mt. Juliet Bark Park at 151 SE Springdale Drive\, on Saturday\, June 25th\, from 10 am to noon. We will have gifts\, giveaways\, vendors\, food\, music\, and an adoption event. We will also be raising funds for Friends of the Parks & Greenway's Bark Park\, for much-needed improvements. It will be the #ultimutt #pawty! There are several goals for this event: #1 to bring the community together #2 to find loving homes for animals in need #3 to raise money for the Bark Park #4 to promote local businesses
X-ALT-DESC;FMTTYPE=text/html:The Huffaker Group is hosting Barks and Recreation\, a community event at the Mt. Juliet Bark Park at 151 SE Springdale Drive\, on Saturday\, June 25th\, from 10 am to noon. We will have gifts\, giveaways\, vendors\, food\, music\, and an adoption event. We will also be raising funds for Friends of the Parks &amp\; Greenway&rsquo\;s Bark Park\, for much-needed improvements. It will be the #ultimutt #pawty! There are several goals for this event: #1 to bring the community together #2 to find loving homes for animals in need #3 to raise money for the Bark Park #4 to promote local businesses
LOCATION:Mt. Juliet Bark Park at 151 SE Springdale Drive
UID:e.2544.10996
SEQUENCE:3
DTSTAMP:20260424T011539Z
URL:https://business.mjchamber.org/events/details/barks-and-recreation-10996
END:VEVENT

END:VCALENDAR
