BEGIN:VCALENDAR
VERSION:2.0
PRODID:-//ChamberMaster//Event Calendar 2.0//EN
METHOD:PUBLISH
X-PUBLISHED-TTL:P3D
REFRESH-INTERVAL:P3D
CALSCALE:GREGORIAN
BEGIN:VEVENT
DTSTART:20210729T140000Z
DTEND:20210729T200000Z
X-MICROSOFT-CDO-ALLDAYEVENT:FALSE
SUMMARY:Basic Digital Literacy and Resume Class in Lebanon
DESCRIPTION:Basic Digital Literacy and Resume Class in Lebanon JULY 29 @ 9:00 AM - 3:00 PM FREE Goodwill Career Solutions will conduct a free Basic Digital Literacy and Resume Class from 9 a.m.-3 p.m. on Thursday\, July 29\, at the American Job Center at 418 Harding Dr. in Lebanon. Participants must pre-register by visiting www.giveit2goodwill.org/digital-literacy or calling (615) 288-2389. To sign up click this link to apply: https://giveit2goodwill.org/digital-literacy/
X-ALT-DESC;FMTTYPE=text/html:Basic Digital Literacy and Resume Class in Lebanon JULY 29 @ 9:00 AM - 3:00 PM FREE Goodwill Career Solutions will conduct a free Basic Digital Literacy and Resume Class from 9 a.m.-3 p.m. on Thursday\, July 29\, at the American Job Center at 418 Harding Dr. in Lebanon. Participants must pre-register by visiting www.giveit2goodwill.org/digital-literacy or calling (615) 288-2389. To sign up click this link to apply: https://giveit2goodwill.org/digital-literacy/
LOCATION:American Job Center at 418 Harding Dr. in Lebanon.
UID:e.2544.10155
SEQUENCE:3
DTSTAMP:20260424T164207Z
URL:https://business.mjchamber.org/events/details/basic-digital-literacy-and-resume-class-in-lebanon-10155
END:VEVENT

END:VCALENDAR
