BEGIN:VCALENDAR
VERSION:2.0
PRODID:-//ChamberMaster//Event Calendar 2.0//EN
METHOD:PUBLISH
X-PUBLISHED-TTL:P3D
REFRESH-INTERVAL:P3D
CALSCALE:GREGORIAN
BEGIN:VEVENT
DTSTART:20210929T140000Z
DTEND:20210929T170000Z
X-MICROSOFT-CDO-ALLDAYEVENT:FALSE
SUMMARY:Basic Digital Literacy Class in Lebanon
DESCRIPTION:Goodwill Career Solutions will conduct a free Basic Digital Literacy Class from 9 a.m.-noon on Wednesday\, Sept. 29\, at the American Job Center at 418 Harding Dr. in Lebanon. Participants must pre-register by visiting www.giveit2goodwill.org/digital-literacy or calling (615) 288-2389.
X-ALT-DESC;FMTTYPE=text/html:Goodwill Career Solutions will conduct a free Basic Digital Literacy Class from 9 a.m.-noon on Wednesday\, Sept. 29\, at the American Job Center at 418 Harding Dr. in Lebanon. Participants must pre-register by visiting www.giveit2goodwill.org/digital-literacy or calling (615) 288-2389.
LOCATION:American Job Center-Lebanon 418 Harding Dr. Lebanon\, TN 37087
UID:e.2544.10205
SEQUENCE:3
DTSTAMP:20260424T175446Z
URL:https://business.mjchamber.org/events/details/basic-digital-literacy-class-in-lebanon-10205
END:VEVENT

END:VCALENDAR
