BEGIN:VCALENDAR
VERSION:2.0
PRODID:-//ChamberMaster//Event Calendar 2.0//EN
METHOD:PUBLISH
X-PUBLISHED-TTL:P3D
REFRESH-INTERVAL:P3D
CALSCALE:GREGORIAN
BEGIN:VEVENT
DTSTART:20211105T140000Z
DTEND:20211105T170000Z
X-MICROSOFT-CDO-ALLDAYEVENT:FALSE
SUMMARY:Basic Digital Literacy Class in Lebanon
DESCRIPTION:Goodwill Career Solutions will conduct a free Basic Digital Literacy Class from 9 a.m.-noon on Friday\, Nov. 5\, at the American Job Center at 418 Harding Dr. in Lebanon. Participants must pre-register by visiting www.giveit2goodwill.org/digital-literacy or calling (615) 288-2389.
X-ALT-DESC;FMTTYPE=text/html:Goodwill Career Solutions will conduct a free Basic Digital Literacy Class from 9 a.m.-noon on Friday\, Nov. 5\, at the American Job Center at 418 Harding Dr. in Lebanon. Participants must pre-register by visiting www.giveit2goodwill.org/digital-literacy or calling (615) 288-2389.
LOCATION:418 Harding Dr. Lebanon\, TN 37087
UID:e.2544.10347
SEQUENCE:3
DTSTAMP:20260424T141839Z
URL:https://business.mjchamber.org/events/details/basic-digital-literacy-class-in-lebanon-11-05-2021-10347
END:VEVENT

END:VCALENDAR
