BEGIN:VCALENDAR
VERSION:2.0
PRODID:-//ChamberMaster//Event Calendar 2.0//EN
METHOD:PUBLISH
X-PUBLISHED-TTL:P3D
REFRESH-INTERVAL:P3D
CALSCALE:GREGORIAN
BEGIN:VEVENT
DTSTART:20220217T150000Z
DTEND:20220217T180000Z
X-MICROSOFT-CDO-ALLDAYEVENT:FALSE
SUMMARY:Basic Digital Literacy Class in Mt. Juliet
DESCRIPTION:Goodwill conducts a free Basic Digital Literacy Class from 9 a.m.- noon on the third Thursday of every month at its Career Solutions Center at 1985 Providence Pkwy. in Mt. Juliet. Participants must pre-register by visiting www.giveit2goodwill.org/digital-literacy or calling (615) 288-2389.
X-ALT-DESC;FMTTYPE=text/html:Goodwill conducts a free Basic Digital Literacy Class from 9 a.m.- noon on the third Thursday of every month at its Career Solutions Center at 1985 Providence Pkwy. in Mt. Juliet. Participants must pre-register by visiting www.giveit2goodwill.org/digital-literacy or calling (615) 288-2389.
LOCATION:Career Solutions Center at 1985 Providence Pkwy. in Mt. Juliet.
UID:e.2544.10874
SEQUENCE:3
DTSTAMP:20260424T085456Z
URL:https://business.mjchamber.org/events/details/basic-digital-literacy-class-in-mt-juliet-02-17-2022-10874
END:VEVENT

END:VCALENDAR
