BEGIN:VCALENDAR
VERSION:2.0
PRODID:-//ChamberMaster//Event Calendar 2.0//EN
METHOD:PUBLISH
X-PUBLISHED-TTL:P3D
REFRESH-INTERVAL:P3D
CALSCALE:GREGORIAN
BEGIN:VEVENT
DTSTART:20210910T150000Z
DTEND:20210910T180000Z
X-MICROSOFT-CDO-ALLDAYEVENT:FALSE
SUMMARY:Basic Digital Literacy in Hermitage
DESCRIPTION:Goodwill Career Solutions will conduct a free Basic Digital Literacy class from 9 a.m.-noon on Friday\, Sept. 10\, at the Nashville Public Library\, 3700 James Kay Lane in Hermitage. Participants must pre-register by visiting www.giveit2goodwill.org/digital-literacy or calling (615) 288-2389.
X-ALT-DESC;FMTTYPE=text/html:Goodwill Career Solutions will conduct a free Basic Digital Literacy class from 9 a.m.-noon on Friday\, Sept. 10\, at the Nashville Public Library\, 3700 James Kay Lane in Hermitage. Participants must pre-register by visiting www.giveit2goodwill.org/digital-literacy or calling (615) 288-2389.
LOCATION:3700 James Kay Lane in Hermitage\, TN 37076
UID:e.2544.10195
SEQUENCE:3
DTSTAMP:20260424T175528Z
URL:https://business.mjchamber.org/events/details/basic-digital-literacy-in-hermitage-10195
END:VEVENT

END:VCALENDAR
