BEGIN:VCALENDAR
VERSION:2.0
PRODID:-//ChamberMaster//Event Calendar 2.0//EN
METHOD:PUBLISH
X-PUBLISHED-TTL:P3D
REFRESH-INTERVAL:P3D
CALSCALE:GREGORIAN
BEGIN:VEVENT
DTSTART:20211209T150000Z
DTEND:20211209T180000Z
X-MICROSOFT-CDO-ALLDAYEVENT:FALSE
SUMMARY:Basic Digital Literacy in Mt. Juliet
DESCRIPTION:Goodwill will conduct a free Basic Digital Literacy Class from 9 a.m.- noon on Thursday\, Dec. 9\, at its Career Solutions Center at 1985 Providence Pkwy. in Mt. Juliet. Participants must pre-register by visiting www.giveit2goodwill.org/digital-literacy or calling (615) 288-2389.
X-ALT-DESC;FMTTYPE=text/html:Goodwill will conduct a free Basic Digital Literacy Class from 9 a.m.- noon on Thursday\, Dec. 9\, at its Career Solutions Center at 1985 Providence Pkwy. in Mt. Juliet. Participants must pre-register by visiting www.giveit2goodwill.org/digital-literacy or calling (615) 288-2389.
LOCATION:1985 Providence West Parkway Mt. Juliet\, TN 37122
UID:e.2544.10634
SEQUENCE:3
DTSTAMP:20260424T123104Z
URL:https://business.mjchamber.org/events/details/basic-digital-literacy-in-mt-juliet-10634
END:VEVENT

END:VCALENDAR
