BEGIN:VCALENDAR
VERSION:2.0
PRODID:-//ChamberMaster//Event Calendar 2.0//EN
METHOD:PUBLISH
X-PUBLISHED-TTL:P3D
REFRESH-INTERVAL:P3D
CALSCALE:GREGORIAN
BEGIN:VEVENT
DTSTART:20220621T220000Z
DTEND:20220622T003000Z
X-MICROSOFT-CDO-ALLDAYEVENT:FALSE
SUMMARY:BBB Networking Event at Wilson County Motors
DESCRIPTION:Join us for an evening of food\, fun\, networking\, & socializing. This B2B event is hosted by Wilson County Motors and sponsored by Rackley Roofing. The Rackley Roofing Nascar racing truck and semi will be on hand at this networking event.
X-ALT-DESC;FMTTYPE=text/html:Join us for an evening of food\, fun\, networking\, &amp\; socializing. This B2B event is hosted by Wilson County Motors and sponsored by Rackley Roofing. The Rackley Roofing Nascar racing truck and semi will be on hand at this networking event.
LOCATION:Wilson County Motors 903 Hartmann Drive Lebanon\, TN 37090
UID:e.2544.11528
SEQUENCE:3
DTSTAMP:20260424T011719Z
URL:https://business.mjchamber.org/events/details/bbb-networking-event-at-wilson-county-motors-11528
END:VEVENT

END:VCALENDAR
