BEGIN:VCALENDAR
VERSION:2.0
PRODID:-//ChamberMaster//Event Calendar 2.0//EN
METHOD:PUBLISH
X-PUBLISHED-TTL:P3D
REFRESH-INTERVAL:P3D
CALSCALE:GREGORIAN
BEGIN:VEVENT
DTSTART:20210911T200000Z
DTEND:20210912T000000Z
X-MICROSOFT-CDO-ALLDAYEVENT:FALSE
SUMMARY:Benefit Concert
DESCRIPTION:Benefit Concert September 11\, 2021 3PM   7PM Jesus Provisions Ministries is a Church that has "left the building"! We provide Church Services along with a hot meal every Sunday to the unhoused in downtown Nashville\, nourishing 175-300 Spiritually and Physically. JPM runs a food pantry providing generous food boxes to families in the community with food insecurities. For more info visit www.jesusprovisions.org or at Facebook @ Jesus Provisions Ministries and Care Center
X-ALT-DESC;FMTTYPE=text/html:Benefit Concert September 11\, 2021 3PM &ndash\; 7PM Jesus Provisions Ministries is a Church that has &ldquo\;left the building&rdquo\;! We provide Church Services along with a hot meal every Sunday to the unhoused in downtown Nashville\, nourishing 175-300 Spiritually and Physically. JPM runs a food pantry providing generous food boxes to families in the community with food insecurities. For more info visit www.jesusprovisions.org or at Facebook @ Jesus Provisions Ministries and Care Center
LOCATION:Gladeville United Methodist Church 8770 Stewarts Ferry Pike Gladville Tn 37071
UID:e.2544.10188
SEQUENCE:3
DTSTAMP:20260424T175448Z
URL:https://business.mjchamber.org/events/details/benefit-concert-10188
END:VEVENT

END:VCALENDAR
