BEGIN:VCALENDAR
VERSION:2.0
PRODID:-//ChamberMaster//Event Calendar 2.0//EN
METHOD:PUBLISH
X-PUBLISHED-TTL:P3D
REFRESH-INTERVAL:P3D
CALSCALE:GREGORIAN
BEGIN:VEVENT
DTSTART:20220611T110000Z
DTEND:20220611T200000Z
X-MICROSOFT-CDO-ALLDAYEVENT:FALSE
SUMMARY:Big Hill Challenge
DESCRIPTION:Experience the most beautiful ride in Middle Tennessee. This year's ride will feature four routes for cyclists of all ages and abilities who want challenges\, or just a good day on the bike. Nestled just outside of Nashville\, Tennessee\, historic Watertown\, Tennessee combines breathtaking scenery and challenging terrain to create the perfect spot for an unforgettable cycling adventure. Routes include a fitness ride great for first timers and families\, a 31 mile route that runs along creek beds and pastures\, a 62 mile route that takes you up and around Center Hill for a memorable climb\, and 100 mile route for century riders looking for a challenge.
X-ALT-DESC;FMTTYPE=text/html:Experience the most beautiful ride in Middle Tennessee. This year&#39\;s ride will feature four routes for cyclists of all ages and abilities who want challenges\, or just a good day on the bike. Nestled just outside of Nashville\, Tennessee\, historic Watertown\, Tennessee combines breathtaking scenery and challenging terrain to create the perfect spot for an unforgettable cycling adventure. Routes include a fitness ride great for first timers and families\, a 31 mile route that runs along creek beds and pastures\, a 62 mile route that takes you up and around Center Hill for a memorable climb\, and 100 mile route for century riders looking for a challenge.
LOCATION:Watertown\, Tennessee
UID:e.2544.10974
SEQUENCE:3
DTSTAMP:20260424T005457Z
URL:https://business.mjchamber.org/events/details/big-hill-challenge-10974
END:VEVENT

END:VCALENDAR
