BEGIN:VCALENDAR
VERSION:2.0
PRODID:-//ChamberMaster//Event Calendar 2.0//EN
METHOD:PUBLISH
X-PUBLISHED-TTL:P3D
REFRESH-INTERVAL:P3D
CALSCALE:GREGORIAN
BEGIN:VEVENT
DTSTART:20110924T150000Z
DTEND:20110924T180000Z
X-MICROSOFT-CDO-ALLDAYEVENT:FALSE
SUMMARY:Book Signing with Sharon Langford!
DESCRIPTION:Come join us as we host Sharon Langford\, Author of Living with the Rescues for a book signing! 100% of all book sales go to the Mt. Juliet Animal Shelter and New Leash on Life. We are collecting donations for the shelters too! Anything you can bring to donate\, even a financial donation would be great! They are in need of raw-hide bones\, dry/wet dog food\, dry/wet cat food\, bleach\, Lysol\, pine-sol\, chewy treats\, paper towels\, clumping cat litter\, used towels\, HE laundry detergent\, and even volunteer time!\nCome and join in the fun with free snacks and see a few of the dogs that are up for adoption!\nBooks will be available for sale at the event and Sharon Langford will be here to sign them!
X-ALT-DESC;FMTTYPE=text/html:Come join us as we host Sharon Langford\, Author of Living with the Rescues for a book signing! 100% of all book sales go to the Mt. Juliet Animal Shelter and New Leash on Life. We are collecting donations for the shelters too! Anything you can bring to donate\, even a financial donation would be great! They are in need of raw-hide bones\, dry/wet dog food\, dry/wet cat food\, bleach\, Lysol\, pine-sol\, chewy treats\, paper towels\, clumping cat litter\, used towels\, HE laundry detergent\, and even volunteer time!\nCome and join in the fun with free snacks and see a few of the dogs that are up for adoption!\nBooks will be available for sale at the event and Sharon Langford will be here to sign them!
LOCATION:151 Adams Lane\, Mt Juliet\, TN 37122 Across the street from Providence!
UID:e.2544.113
SEQUENCE:3
DTSTAMP:20260420T084452Z
URL:https://business.mjchamber.org/events/details/book-signing-with-sharon-langford-09-24-2011-113
END:VEVENT

END:VCALENDAR
