BEGIN:VCALENDAR
VERSION:2.0
PRODID:-//ChamberMaster//Event Calendar 2.0//EN
METHOD:PUBLISH
X-PUBLISHED-TTL:P3D
REFRESH-INTERVAL:P3D
CALSCALE:GREGORIAN
BEGIN:VEVENT
DTSTART:20120519T160000Z
DTEND:20120519T160000Z
X-MICROSOFT-CDO-ALLDAYEVENT:FALSE
SUMMARY:Cannonballs for Charis!
DESCRIPTION:Cannonballs for Charis! is a unique fundraiser for a unique charity.  The concept is simple\, get your friends to sponsor you by donating to Charis Health Center.  Then\, you jump off the diving board and make a splash!  \n\n\nThere are 3 ways to compete.  First is the ''Best Splash'' contest.  The judges will be looking at your cannonball form\, and of course\, your splash!  The second competition is the ''Best Presentation'' contest where you can wear a costume\, dance\, sing\, or whatever creative thing you can think of!  The only requirement is that you keep it safe\, family friendly\,  and within the 3 minutes allowed.  The final contest is the ''Best Friends'' contest.  This is simply the contest to see who raises the most funds.  Remember to set up your online donation page and ask all your friends to sponsor you! \n\nGet more information or register to participate at charishealthcenter.org
X-ALT-DESC;FMTTYPE=text/html:Cannonballs for Charis! is a unique fundraiser for a unique charity.  The concept is simple\, get your friends to sponsor you by donating to Charis Health Center.  Then\, you jump off the diving board and make a splash!  \n\n\nThere are 3 ways to compete.  First is the ''Best Splash'' contest.  The judges will be looking at your cannonball form\, and of course\, your splash!  The second competition is the ''Best Presentation'' contest where you can wear a costume\, dance\, sing\, or whatever creative thing you can think of!  The only requirement is that you keep it safe\, family friendly\,  and within the 3 minutes allowed.  The final contest is the ''Best Friends'' contest.  This is simply the contest to see who raises the most funds.  Remember to set up your online donation page and ask all your friends to sponsor you! \n\nGet more information or register to participate at charishealthcenter.org \n
LOCATION:511 Castle Heights Ave N\, Lebanon\, TN 37087 Jimmy Floyd Family Center
UID:e.2544.262
SEQUENCE:3
DTSTAMP:20260419T181329Z
URL:https://business.mjchamber.org/events/details/cannonballs-for-charis-05-19-2012-262
END:VEVENT

END:VCALENDAR
