BEGIN:VCALENDAR
VERSION:2.0
PRODID:-//ChamberMaster//Event Calendar 2.0//EN
METHOD:PUBLISH
X-PUBLISHED-TTL:P3D
REFRESH-INTERVAL:P3D
CALSCALE:GREGORIAN
BEGIN:VEVENT
DTSTART:20211117T150000Z
DTEND:20211117T180000Z
X-MICROSOFT-CDO-ALLDAYEVENT:FALSE
SUMMARY:Career Coaching and Employment Services in Lebanon
DESCRIPTION:Goodwill Career Solutions will be offering onsite services at Compassionate Hands at 214 N. College St.\, Lebanon\, on Wednesday\, Nov. 17\, from 9 a.m.-noon. Career Solutions staff will be helping job-seekers assess their strengths\, refine their goals and acquire skills needed to find meaningful work and launch careers. Services include one-on-one coaching\, job placement assistance and referrals. Job-seekers are encouraged to pre-register for the event by visiting https://bit.ly/3dcFzLk or calling (615) 288-2389.
X-ALT-DESC;FMTTYPE=text/html:Goodwill Career Solutions will be offering onsite services at Compassionate Hands at 214 N. College St.\, Lebanon\, on Wednesday\, Nov. 17\, from 9 a.m.-noon. Career Solutions staff will be helping job-seekers assess their strengths\, refine their goals and acquire skills needed to find meaningful work and launch careers. Services include one-on-one coaching\, job placement assistance and referrals. Job-seekers are encouraged to pre-register for the event by visiting https://bit.ly/3dcFzLk or calling (615) 288-2389.
LOCATION:Compassionate Hands-Lebanon 214 N College St Lebanon\, TN 37087
UID:e.2544.10350
SEQUENCE:3
DTSTAMP:20260424T142412Z
URL:https://business.mjchamber.org/events/details/career-coaching-and-employment-services-in-lebanon-11-17-2021-10350
END:VEVENT

END:VCALENDAR
