BEGIN:VCALENDAR
VERSION:2.0
PRODID:-//ChamberMaster//Event Calendar 2.0//EN
METHOD:PUBLISH
X-PUBLISHED-TTL:P3D
REFRESH-INTERVAL:P3D
CALSCALE:GREGORIAN
BEGIN:VEVENT
DTSTART:20210930T220000Z
DTEND:20211001T030000Z
X-MICROSOFT-CDO-ALLDAYEVENT:FALSE
SUMMARY:CASA DE MODA FASHION SHOW
DESCRIPTION:EMTARs Community Involvement Committee is hosting our 4th annual CASA De Moda Fashion show for CASA of Wilson County. This event will be an evening of fashion\, fun\, dinner & a show all while we raise money for a great cause! Please reach out to April Harrington to reserve your table today! Each table purchased is 8 seats and dinner is provided! 20% of sales proceeds also go back to CASA that night!
X-ALT-DESC;FMTTYPE=text/html:EMTARs Community Involvement Committee is hosting our 4th annual CASA De Moda Fashion show for CASA of Wilson County. This event will be an evening of fashion\, fun\, dinner &amp\; a show all while we raise money for a great cause! Please reach out to April Harrington to reserve your table today! Each table purchased is 8 seats and dinner is provided! 20% of sales proceeds also go back to CASA that night!
LOCATION:Tucker Gap Event Center
UID:e.2544.10094
SEQUENCE:3
DTSTAMP:20260424T175654Z
URL:https://business.mjchamber.org/events/details/casa-de-moda-fashion-show-10094
END:VEVENT

END:VCALENDAR
