BEGIN:VCALENDAR
VERSION:2.0
PRODID:-//ChamberMaster//Event Calendar 2.0//EN
METHOD:PUBLISH
X-PUBLISHED-TTL:P3D
REFRESH-INTERVAL:P3D
CALSCALE:GREGORIAN
BEGIN:VEVENT
DTSTART:20120911T000000Z
DTEND:20120911T020000Z
X-MICROSOFT-CDO-ALLDAYEVENT:FALSE
SUMMARY:Cedar Creek Community Band Rehearsals
DESCRIPTION:We will meet at KHS America for rehearsals every Monday night from 7-9pm.
X-ALT-DESC;FMTTYPE=text/html:We will meet at KHS America for rehearsals every Monday night from 7-9pm.
LOCATION:12020 Eastgate Boulevard \, Mt. Juliet\, CA 37122 Contact me for directions\, as GPS does not take you there.
UID:e.2544.335
SEQUENCE:3
DTSTAMP:20260423T090441Z
URL:https://business.mjchamber.org/events/details/cedar-creek-community-band-rehearsals-09-10-2012-335
END:VEVENT

END:VCALENDAR
