BEGIN:VCALENDAR
VERSION:2.0
PRODID:-//ChamberMaster//Event Calendar 2.0//EN
METHOD:PUBLISH
X-PUBLISHED-TTL:P3D
REFRESH-INTERVAL:P3D
CALSCALE:GREGORIAN
BEGIN:VEVENT
DTSTART:20111029T110000Z
DTEND:20111029T110000Z
X-MICROSOFT-CDO-ALLDAYEVENT:FALSE
SUMMARY:Celebrate Mt. Juliet Walk
DESCRIPTION:6AM Registration\n6:45 Opening Ceremonies \nHonorary Chair: Channel 5 News Anchor\, Vicky Yates\n7PM 6 Mile Walk\n7:30 1/2 Mile Mini-walk\nPost event party and concert with Country Artist\, Paul Alan Coons
X-ALT-DESC;FMTTYPE=text/html:6AM Registration\n6:45 Opening Ceremonies \nHonorary Chair: Channel 5 News Anchor\, Vicky Yates\n7PM 6 Mile Walk\n7:30 1/2 Mile Mini-walk\nPost event party and concert with Country Artist\, Paul Alan Coons
LOCATION:2034 North Mt. Juliet Rd.\, Mt. Juliet\, TN 37122 Mt. Juliet Senior Activity Center 2034 North Mt. Juliet Road Mt. Juliet\, TN 37122
UID:e.2544.131
SEQUENCE:3
DTSTAMP:20260420T063345Z
URL:https://business.mjchamber.org/events/details/celebrate-mt-juliet-walk-10-29-2011-131
END:VEVENT

END:VCALENDAR
