BEGIN:VCALENDAR
VERSION:2.0
PRODID:-//ChamberMaster//Event Calendar 2.0//EN
METHOD:PUBLISH
X-PUBLISHED-TTL:P3D
REFRESH-INTERVAL:P3D
CALSCALE:GREGORIAN
BEGIN:VEVENT
DTSTART:20211215T171500Z
DTEND:20211215T183000Z
X-MICROSOFT-CDO-ALLDAYEVENT:FALSE
SUMMARY:Chamber Connection Luncheon
DESCRIPTION:Registration is full for this month's luncheon. If you would like your name added to the waiting list please email marla@mjchamber.org. Thank you!\n\nJoin us for our monthly Connection Luncheon! This month we are highlighting all our Chamber Events and what's to come in 2022! You don't want to miss this seats fill up fast so be sure to get your ticket soon.  \n\n\n\nSeating is limited and registration is required!
X-ALT-DESC;FMTTYPE=text/html:<div style="text-align: justify\;"><br />\n<strong><span style="font-size:16px\;"><span style="font-family:tahoma\;">Registration is full for this month&#39\;s luncheon. If you would like your name added to the waiting list please email marla@mjchamber.org. Thank you!</span></span></strong><br />\n<span style="color:#000000\;"><span style="font-size:14px\;"><span style="font-family:verdana\;">Join us for our monthly Connection Luncheon! This month we are highlighting all our Chamber Events and what&#39\;s to come in 2022! You don&#39\;t want to miss this&nbsp\;</span></span></span><span style="color:#000000\;"><span style="font-size:14px\;"><span style="font-family:verdana\;">seats fill up fast so be sure to get your ticket soon.&nbsp\;&nbsp\;</span></span></span><br />\n<br />\n<span style="font-family:verdana\;"><span style="color:#000000\;"><span style="font-size:14px\;">Seating is limited and registration is required!&nbsp\;</span></span></span><br />\n<br />\n<span style="font-size:10px\;"><span style="text-align: justify\; background-color: rgb(255\, 255\, 255)\; font-family: tahoma\, sans-serif\;">&nbsp\;</span></span></div>\n
LOCATION:The Courtyard by Marriott 1980 Providence Parkway Mt. Juliet\, TN 37122
UID:e.2544.10310
SEQUENCE:3
DTSTAMP:20260424T160330Z
URL:https://business.mjchamber.org/events/details/chamber-connection-luncheon-10310
END:VEVENT

END:VCALENDAR
