BEGIN:VCALENDAR
VERSION:2.0
PRODID:-//ChamberMaster//Event Calendar 2.0//EN
METHOD:PUBLISH
X-PUBLISHED-TTL:P3D
REFRESH-INTERVAL:P3D
CALSCALE:GREGORIAN
BEGIN:VEVENT
DTSTART:20210713T144500Z
DTEND:20210713T160000Z
X-MICROSOFT-CDO-ALLDAYEVENT:FALSE
SUMMARY:Chamber NetWORKS
DESCRIPTION:Come meet up with your fellow chamber investors for this excellent networking opportunity! Bring your business card and dive into this active network of business professionals to generate referrals\, increase business and gain valuable advice... all while increasing your confidence and helping business pros just like you.       \n\nDon't forget to practice your 45-second elevator pitch!\n\n\n\nSeating is limited - be sure to reserve yours! \n\n\n	Only one representative per business (2 can come if you would like to show a co-worker or employee how it all works. Only one representative can give the elevator pitch.)\n	Free (one-time) guest pass for non-members\n	48 hours cancelation email\n	Doors open at 9:45\n	The meeting begins at 10:00 am
X-ALT-DESC;FMTTYPE=text/html:<div style="text-align: justify\;"><span style="text-align: justify\; color: rgb(0\, 0\, 0)\;"><span style="font-size: 14px\;"><span style="font-family: verdana\;">Come meet up with your fellow chamber investors&nbsp\;for this excellent networking opportunity! Bring your business card and dive into this active network of business professionals to generate referrals\, increase business and gain valuable advice... all while increasing your confidence and helping business pros just like you.&nbsp\; &nbsp\; &nbsp\; &nbsp\;</span></span></span><br />\n<span style="font-size:14px\;"><span style="font-family:verdana\;"><span style="color:#000000\;"><span style="line-height: 16.64px\;">Don&#39\;t forget to practice your 45-second elevator pitch!</span><br />\n<br />\n<span style="text-align: justify\;">Seating is limited - be sure to reserve yours!&nbsp\;</span></span></span></span></div>\n\n<ul>\n	<li style="text-align: justify\;"><span style="font-size:14px\;"><span style="font-family:verdana\;"><span style="color:#000000\;">Only o<span style="line-height: 16.64px\;">ne representative per business <span style="font-size:12px\;"><em>(2 can come if you would like to show a co-worker or employee how it all works. Only one representative can give the elevator pitch.)</em></span></span></span></span></span></li>\n	<li style="text-align: justify\;"><span style="font-size:14px\;"><span style="font-family:verdana\;"><span style="color:#000000\;"><span style="line-height: 16.64px\;"><span style="line-height: 16.64px\;"><span style="line-height: 16.64px\;">Free (one-time)&nbsp\;guest pass for non-members</span></span></span></span></span></span></li>\n	<li style="text-align: justify\;"><span style="font-size:14px\;"><span style="font-family:verdana\;"><span style="color:#000000\;"><span style="line-height: 16.64px\;"><span style="line-height: 16.64px\;"><span style="line-height: 16.64px\;"><span style="font-size:14px\;"><span style="font-family:verdana\;"><span style="color:#000000\;"><span style="line-height: 16.64px\;"><span style="line-height: 16.64px\;"><span style="line-height: 16.64px\;">48 hours cancelation email</span></span></span></span></span></span></span></span></span></span></span></span></li>\n	<li style="text-align: justify\;"><span style="font-size:14px\;"><span style="font-family:verdana\;"><span style="color:#000000\;"><span style="line-height: 16.64px\;"><span style="line-height: 16.64px\;"><span style="line-height: 16.64px\;"><span style="font-size:14px\;"><span style="font-family:verdana\;"><span style="color:#000000\;"><span style="line-height: 16.64px\;"><span style="line-height: 16.64px\;"><span style="line-height: 16.64px\;">Doors open at 9:45</span></span></span></span></span></span></span></span></span></span></span></span></li>\n	<li style="text-align: justify\;"><span style="font-size:14px\;"><span style="font-family:verdana\;"><span style="color:#000000\;"><span style="line-height: 16.64px\;"><span style="line-height: 16.64px\;"><span style="line-height: 16.64px\;"><span style="font-size:14px\;"><span style="font-family:verdana\;"><span style="color:#000000\;"><span style="line-height: 16.64px\;"><span style="line-height: 16.64px\;"><span style="line-height: 16.64px\;">The meeting begins at 10:00 am&nbsp\; &nbsp\;&nbsp\;</span></span></span></span></span></span></span></span></span></span></span></span></li>\n</ul>\n\n<div style="text-align: justify\;">&nbsp\;</div>\n
LOCATION:Chamber Office 2055 N. Mt. Juliet Road Suite 200 (Across the street from the train station)
UID:e.2544.10002
SEQUENCE:3
DTSTAMP:20260424T163855Z
URL:https://business.mjchamber.org/events/details/chamber-networks-10002
END:VEVENT

END:VCALENDAR
