BEGIN:VCALENDAR
VERSION:2.0
PRODID:-//ChamberMaster//Event Calendar 2.0//EN
METHOD:PUBLISH
X-PUBLISHED-TTL:P3D
REFRESH-INTERVAL:P3D
CALSCALE:GREGORIAN
BEGIN:VEVENT
DTSTART;VALUE=DATE:20220704
DTEND;VALUE=DATE:20220705
TRANSP:TRANSPARENT
X-MICROSOFT-CDO-ALLDAYEVENT:TRUE
SUMMARY:Chamber Office is closed
DESCRIPTION:The Chamber Office will be closed in observance of\n\nJuly 4th.\n\n\n\n"We're blessed with the opportunity to stand for something-for liberty and freedom and fairness. And these are things worth fighting for\, worth devoting our lives to." - Ronald Reagan
X-ALT-DESC;FMTTYPE=text/html:<h2 style="text-align: center\;"><strong><span style="font-family:tahoma\;">The Chamber Office will be closed in observance of<br />\nJuly 4th.<br />\n<br />\n&quot\;We&#39\;re blessed with the opportunity to stand for something-for liberty and freedom and fairness. And these are things worth fighting for\, worth devoting our lives to.&quot\; - Ronald Reagan</span></strong></h2>\n
LOCATION:
UID:e.2544.10592
SEQUENCE:3
DTSTAMP:20260424T025321Z
URL:https://business.mjchamber.org/events/details/chamber-office-is-closed-10592
END:VEVENT

END:VCALENDAR
