BEGIN:VCALENDAR
VERSION:2.0
PRODID:-//ChamberMaster//Event Calendar 2.0//EN
METHOD:PUBLISH
X-PUBLISHED-TTL:P3D
REFRESH-INTERVAL:P3D
CALSCALE:GREGORIAN
BEGIN:VEVENT
DTSTART:20210814T160000Z
DTEND:20211018T190000Z
X-MICROSOFT-CDO-ALLDAYEVENT:FALSE
SUMMARY:Chili Cook-Off
DESCRIPTION:Enter your chili to win! Judging by attendees of Wilson Bank's Octoberfest.
X-ALT-DESC;FMTTYPE=text/html:Enter your chili to win! Judging by attendees of Wilson Bank&#39\;s Octoberfest.
LOCATION:Wilson Bank & Trust 623 W Main St\, Lebanon\, TN 37087
UID:e.2544.10206
SEQUENCE:3
DTSTAMP:20260424T161435Z
URL:https://business.mjchamber.org/events/details/chili-cook-off-10206
END:VEVENT

END:VCALENDAR
