BEGIN:VCALENDAR
VERSION:2.0
PRODID:-//ChamberMaster//Event Calendar 2.0//EN
METHOD:PUBLISH
X-PUBLISHED-TTL:P3D
REFRESH-INTERVAL:P3D
CALSCALE:GREGORIAN
BEGIN:VEVENT
DTSTART:20210731T140000Z
DTEND:20210731T190000Z
X-MICROSOFT-CDO-ALLDAYEVENT:FALSE
SUMMARY:Christmas In July
DESCRIPTION:Brunch With Santa Bring the kids and support Give A Little Christmas Give A Little Christmas In July Fundraiser! Join us on July 31st from 9 AM- 2PM for Brunch with Santa Purchase Tickets here: https://www.eventbrite.com/e/give-a-little-christmas-brunch-with-santa-tickets-161264661945 And Then follow up with shopping from 15+ vendors from 10-5pm. Live Local Music from 10-5! Food and Drinks Available! Vendor Application:https://forms.gle/m9iLH3yecFB7PQTdA Sponsored By: Music Valley Handmade\, TJ Courtney's\, The PharmTN Shiloh Music Center and Life Between The Lakes magazine.
X-ALT-DESC;FMTTYPE=text/html:Brunch With Santa Bring the kids and support Give A Little Christmas Give A Little Christmas In July Fundraiser! Join us on July 31st from 9 AM- 2PM for Brunch with Santa Purchase Tickets here: https://www.eventbrite.com/e/give-a-little-christmas-brunch-with-santa-tickets-161264661945 And Then follow up with shopping from 15+ vendors from 10-5pm. Live Local Music from 10-5! Food and Drinks Available! Vendor Application:https://forms.gle/m9iLH3yecFB7PQTdA Sponsored By: Music Valley Handmade\, TJ Courtney&#39\;s\, The PharmTN Shiloh Music Center and Life Between The Lakes magazine.
LOCATION:TJ Courtney's 4066 N Mt Juliet Rd Mt Juliet TN
UID:e.2544.10139
SEQUENCE:3
DTSTAMP:20260424T164044Z
URL:https://business.mjchamber.org/events/details/christmas-in-july-10139
END:VEVENT

END:VCALENDAR
