BEGIN:VCALENDAR
VERSION:2.0
PRODID:-//ChamberMaster//Event Calendar 2.0//EN
METHOD:PUBLISH
X-PUBLISHED-TTL:P3D
REFRESH-INTERVAL:P3D
CALSCALE:GREGORIAN
BEGIN:VEVENT
DTSTART:20211207T000000Z
DTEND:20211207T023000Z
X-MICROSOFT-CDO-ALLDAYEVENT:FALSE
SUMMARY:Christmas Light Walking Tour
DESCRIPTION:The Bicycle & Pedestrian Advisory Committee (BPAC) will host its 7th annual walking tour to view the lights on Monday\, December 6. The event will begin at City Hall at 6:00 pm\, where refreshments will be served before driving over to Jackson Hills. The walking tour will cover the Jackson Hills subdivision and begin at 6:30 pm in the clubhouse parking lot located at the corner of Golden Bear Gateway and Vanner Road. Please park at Mt. Juliet High School or at the greenway trailhead on Woodridge Place. The walking tour will last between 1 and 2 hours\, and walkers will be escorted by the Mt. Juliet Police Department. Everyone is encouraged to bring a flashlight for added visibility.
X-ALT-DESC;FMTTYPE=text/html:The Bicycle &amp\; Pedestrian Advisory Committee (BPAC) will host its 7th annual walking tour to view the lights on Monday\, December 6. The event will begin at City Hall at 6:00 pm\, where refreshments will be served before driving over to Jackson Hills. The walking tour will cover the Jackson Hills subdivision and begin at 6:30 pm in the clubhouse parking lot located at the corner of Golden Bear Gateway and Vanner Road. Please park at Mt. Juliet High School or at the greenway trailhead on Woodridge Place. The walking tour will last between 1 and 2 hours\, and walkers will be escorted by the Mt. Juliet Police Department. Everyone is encouraged to bring a flashlight for added visibility.
LOCATION:City Hall & Jackson Hills
UID:e.2544.10637
SEQUENCE:3
DTSTAMP:20260424T123151Z
URL:https://business.mjchamber.org/events/details/christmas-light-walking-tour-10637
END:VEVENT

END:VCALENDAR
