BEGIN:VCALENDAR
VERSION:2.0
PRODID:-//ChamberMaster//Event Calendar 2.0//EN
METHOD:PUBLISH
X-PUBLISHED-TTL:P3D
REFRESH-INTERVAL:P3D
CALSCALE:GREGORIAN
BEGIN:VEVENT
DTSTART:20111227T170000Z
DTEND:20111228T010000Z
X-MICROSOFT-CDO-ALLDAYEVENT:FALSE
SUMMARY:City of Mt Juliet Holiday Blood Drive
DESCRIPTION:Think outside the box this holiday season. The perfect gift is at your nearest American Red Cross blood drive or blood donation center.  And\, unlike the latest fashion trend\, video game or golf club\, it costs nothing but an hour of your time.  When you donate blood\, you give the perfect gift – another hug\, another laugh\, another smile\, another chance – to someone in need of blood.\n\n''It's the season of giving and there's one gift that won't cost you a penny\, but means the world to a patient in need\,'' said Tim Ryerson\, CEO\, Tennessee Valley Blood Services Region.  ''By donating blood\, you can give someone an opportunity to spend another holiday with their loved ones.''\n\nIt only takes about an hour to donate blood.  In that hour\, you can unwrap a lifetime of memories for hospital patients in your community and across the country.  The need for blood is constant and doesn't pause for the holidays.  By taking time to donate this winter\, you can help the Red Cross ensure a stable blood supply for all patients who need blood products.\n\nAll blood types are needed to help maintain a sufficient blood supply\, especially type O negative.  Type O negative blood\, the universal blood type\, is always in high demand because it can be transfused to patients with any blood type\, especially in emergency situations.
X-ALT-DESC;FMTTYPE=text/html:Think outside the box this holiday season. The perfect gift is at your nearest American Red Cross blood drive or blood donation center.  And\, unlike the latest fashion trend\, video game or golf club\, it costs nothing but an hour of your time.  When you donate blood\, you give the perfect gift – another hug\, another laugh\, another smile\, another chance – to someone in need of blood.\n\n''It's the season of giving and there's one gift that won't cost you a penny\, but means the world to a patient in need\,'' said Tim Ryerson\, CEO\, Tennessee Valley Blood Services Region.  ''By donating blood\, you can give someone an opportunity to spend another holiday with their loved ones.''\n\nIt only takes about an hour to donate blood.  In that hour\, you can unwrap a lifetime of memories for hospital patients in your community and across the country.  The need for blood is constant and doesn't pause for the holidays.  By taking time to donate this winter\, you can help the Red Cross ensure a stable blood supply for all patients who need blood products.\n\nAll blood types are needed to help maintain a sufficient blood supply\, especially type O negative.  Type O negative blood\, the universal blood type\, is always in high demand because it can be transfused to patients with any blood type\, especially in emergency situations.\n
LOCATION:2425 North Mount Juliet Road\, Mount Juliet\, TN 37122 Valley Shopping Center In the same plaza with Pump It Up and Essex Outlet
UID:e.2544.152
SEQUENCE:3
DTSTAMP:20260420T031506Z
URL:https://business.mjchamber.org/events/details/city-of-mt-juliet-holiday-blood-drive-12-27-2011-152
END:VEVENT

END:VCALENDAR
