BEGIN:VCALENDAR
VERSION:2.0
PRODID:-//ChamberMaster//Event Calendar 2.0//EN
METHOD:PUBLISH
X-PUBLISHED-TTL:P3D
REFRESH-INTERVAL:P3D
CALSCALE:GREGORIAN
BEGIN:VEVENT
DTSTART:20220708T133000Z
DTEND:20220708T143000Z
X-MICROSOFT-CDO-ALLDAYEVENT:FALSE
SUMMARY:Community Development Meeting
DESCRIPTION:Join us for our Community Development meeting.\n\nDoors open at 8:15am and the program begins at 8:30am!\n\n\n\nThis month's guest speaker will be from WC TCAT.  \n\n\n\nSeating is limited\, so save yours today!
X-ALT-DESC;FMTTYPE=text/html:<h2 style="text-align: center\;"><br />\n<span style="font-size:18px\;"><span style="text-align: justify\; color: rgb(0\, 0\, 0)\; font-family: verdana\;">Join us for our Community Development meeting.<br />\n<strong>Doors open at 8:15am and the program begins at 8:30am!</strong></span><br style="text-align: justify\; color: rgb(0\, 0\, 0)\; font-family: verdana\; font-size: 14px\;" />\n<br style="text-align: justify\; color: rgb(0\, 0\, 0)\; font-family: verdana\; font-size: 14px\;" />\n<span style="text-align: justify\; color: rgb(0\, 0\, 0)\; font-family: verdana\;">This month&#39\;s guest speaker will be from WC TCAT.&nbsp\;&nbsp\;</span><br />\n<br />\n<span style="text-align: justify\; color: rgb(0\, 0\, 0)\;"><span style="font-family: verdana\;">Seating is limited\, so save yours today!</span></span></span><br />\n&nbsp\;</h2>\n\n<div style="text-align: justify\;">&nbsp\;\n<p style="margin:0in\;margin-bottom:.0001pt"><br />\n<br />\n<br />\n<br />\n<br />\n<br />\n<br />\n<br />\n&nbsp\;</p>\n<br />\n&nbsp\;</div>\n
LOCATION:Chamber Office 2055 N. Mt Juliet Road Suite 200 (Across the street from the Train Station)
UID:e.2544.10444
SEQUENCE:3
DTSTAMP:20260423T231520Z
URL:https://business.mjchamber.org/events/details/community-development-meeting-07-08-2022-10444
END:VEVENT

END:VCALENDAR
