BEGIN:VCALENDAR
VERSION:2.0
PRODID:-//ChamberMaster//Event Calendar 2.0//EN
METHOD:PUBLISH
X-PUBLISHED-TTL:P3D
REFRESH-INTERVAL:P3D
CALSCALE:GREGORIAN
BEGIN:VEVENT
DTSTART:20210910T130000Z
DTEND:20210910T140000Z
X-MICROSOFT-CDO-ALLDAYEVENT:FALSE
SUMMARY:Community Development Meeting
DESCRIPTION:This meeting is canceled\n\nWelcome back to our monthly Community Development Meeting! This month we will be hearing from _________________________. \n\n\n\nSeating is limited\, so save yours today!
X-ALT-DESC;FMTTYPE=text/html:<div style="text-align: justify\;"><br />\n<span style="font-size:20px\;"><strong>This meeting is canceled</strong></span><br />\n<span style="color:#000000\;"><span style="font-family:verdana\;"><span style="font-size: 14px\;">Welcome back to our monthly Community Development Meeting! This month we will be hearing from _________________________.&nbsp\;</span><br />\n<br />\n<span style="font-size: 14px\; text-align: justify\; background-color: rgb(255\, 255\, 255)\;">Seating is limited\, so save yours today!</span></span></span><br />\n<br />\n&nbsp\;</div>\n\n<div style="text-align: justify\;">&nbsp\;\n<p style="margin:0in\;margin-bottom:.0001pt"><br />\n<br />\n<br />\n<br />\n<br />\n<br />\n<br />\n<br />\n&nbsp\;</p>\n<br />\n&nbsp\;</div>\n
LOCATION:Chamber Office 2055 N. Mt. Juliet Road Suite 200 (Across the street from the train station)
UID:e.2544.10200
SEQUENCE:3
DTSTAMP:20260424T175528Z
URL:https://business.mjchamber.org/events/details/community-development-meeting-10200
END:VEVENT

END:VCALENDAR
