BEGIN:VCALENDAR
VERSION:2.0
PRODID:-//ChamberMaster//Event Calendar 2.0//EN
METHOD:PUBLISH
X-PUBLISHED-TTL:P3D
REFRESH-INTERVAL:P3D
CALSCALE:GREGORIAN
BEGIN:VEVENT
DTSTART:20260710T133000Z
DTEND:20260710T143000Z
X-MICROSOFT-CDO-ALLDAYEVENT:FALSE
SUMMARY:Community Development Meeting
DESCRIPTION:Please join us for our Community Development Meeting.\n\n\n\n\n\n\n\n\n\n\n\n \n \n\nSeats fill up fast so be sure to get your ticket soon.  \n\n\n\nSeating is limited - we ask that you RSVP in advance so we can monitor space requirements.\n\n\n\n\n\nPLEASE NOTE: If WCS is closed due to inclement weather\, programs starting before 11:00 AM will be cancelled. Cancellation for programs starting after 11:00 will be determined not later than the morning of the program. \n\n\n\nDisclaimer:  As a non-profit organization\, the Mt. Juliet Chamber of Commerce does not promote or endorse political candidates.  Mt. Juliet Chamber of Commerce events are not grounds for campaigning or the distribution of campaign material.  We would like to thank those who hold and/or pursue an elected office for being a Chamber supporter.
X-ALT-DESC;FMTTYPE=text/html:&nbsp\;\n<p dir="ltr" style="line-height:1.38\;text-align: center\;margin-top:0pt\;margin-bottom:0pt\;"><span id="docs-internal-guid-39c9a25c-7fff-c4e9-d15b-75674d1fb4d5"><span style="font-size: 15pt\; font-family: Arial\; color: rgb(0\, 0\, 0)\; font-variant-numeric: normal\; font-variant-east-asian: normal\; vertical-align: baseline\; white-space: pre-wrap\;">Please join us for our Community Development Meeting.</span></span><br />\n<br />\n<br />\n<br />\n<br />\n<br />\n&nbsp\;</p>\n&nbsp\;\n\n<p dir="ltr" style="line-height: 1.38\; text-align: center\; margin-top: 0pt\; margin-bottom: 0pt\;"><span id="docs-internal-guid-4686b050-7fff-cc37-c3c1-9ace906db5de"><span style="font-size: 15pt\; font-family: Verdana\; color: rgb(0\, 0\, 0)\; font-variant-numeric: normal\; font-variant-east-asian: normal\; vertical-align: baseline\; white-space-collapse: preserve\;">Seats fill up fast so be sure to get your ticket soon.&nbsp\;&nbsp\;</span></span></p>\n\n<p dir="ltr" style="line-height: 1.38\; text-align: center\; margin-top: 0pt\; margin-bottom: 0pt\;"><br />\n<span style="color: rgb(0\, 0\, 0)\; font-family: Verdana\; font-size: 16px\; font-weight: 700\; text-align: justify\; white-space-collapse: preserve\;">Seating is limited -&nbsp\;we ask that you RSVP in advance so we can monitor space requirements.</span><br />\n<br />\n<br />\n<!--StartFragment--><span data-olk-copy-source="MessageBody">PLEASE NOTE: If WCS is closed due to inclement weather\, programs starting before 11:00 AM will be cancelled. Cancellation for programs starting after 11:00 will be determined not later than the morning of the program.&nbsp\;</span><!--EndFragment--></p>\n\n<p dir="ltr" style="line-height:1.38\;text-align: center\;margin-top:0pt\;margin-bottom:0pt\;"><br />\n<span style="font-size:14px\;"><em>Disclaimer:&nbsp\; As a non-profit organization\, the Mt. Juliet Chamber of Commerce does not promote or endorse political candidates.&nbsp\; Mt. Juliet Chamber of Commerce events are not grounds for campaigning or the distribution of campaign material.&nbsp\; We would like to thank those who hold and/or pursue an elected office for being a Chamber supporter.</em></span><br />\n&nbsp\;</p>\n
LOCATION:Mt. Juliet Chamber office
UID:e.2544.13901
SEQUENCE:3
DTSTAMP:20260419T130520Z
URL:https://business.mjchamber.org/events/details/community-development-meeting-13901
END:VEVENT

END:VCALENDAR
