BEGIN:VCALENDAR
VERSION:2.0
PRODID:-//ChamberMaster//Event Calendar 2.0//EN
METHOD:PUBLISH
X-PUBLISHED-TTL:P3D
REFRESH-INTERVAL:P3D
CALSCALE:GREGORIAN
BEGIN:VEVENT
DTSTART:20211104T223000Z
DTEND:20211105T020000Z
X-MICROSOFT-CDO-ALLDAYEVENT:FALSE
SUMMARY:Complete the Dream
DESCRIPTION:Complete the Dream is an evening to gather with friends for cocktails\, dinner\, student testimonies\, and entertainment with the goal to meet the financial needs of our students through scholarships and other college projects. We can accomplish our goal with this event by raising money through sponsorships\, ticket sales\, and other "fun"draising activities. It is through the generosity of the community and individual support that Vol State students can Complete their Dream of an education. We are excited to announce that our 2021 entertainment will be actor/comedian\, Henry Cho!
X-ALT-DESC;FMTTYPE=text/html:Complete the Dream is an evening to gather with friends for cocktails\, dinner\, student testimonies\, and entertainment with the goal to meet the financial needs of our students through scholarships and other college projects. We can accomplish our goal with this event by raising money through sponsorships\, ticket sales\, and other &ldquo\;fun&rdquo\;draising activities. It is through the generosity of the community and individual support that Vol State students can Complete their Dream of an education. We are excited to announce that our 2021 entertainment will be actor/comedian\, Henry Cho!
LOCATION:Bluegrass Yacht & Country Club 550 Johnny Cash Parkway Hendersonville\, TN 37075
UID:e.2544.10275
SEQUENCE:3
DTSTAMP:20260424T141111Z
URL:https://business.mjchamber.org/events/details/complete-the-dream-11-04-2021-10275
END:VEVENT

END:VCALENDAR
