BEGIN:VCALENDAR
VERSION:2.0
PRODID:-//ChamberMaster//Event Calendar 2.0//EN
METHOD:PUBLISH
X-PUBLISHED-TTL:P3D
REFRESH-INTERVAL:P3D
CALSCALE:GREGORIAN
BEGIN:VEVENT
DTSTART:20120814T231500Z
DTEND:20120815T013000Z
X-MICROSOFT-CDO-ALLDAYEVENT:FALSE
SUMMARY:Crohn's and Colitis Support Group
DESCRIPTION:Held the 2nd Tuesday of each month at UMC Hospital in the Board Room.\nAugust meeting guest speaker is from the Associates in Gastroenterology at Summit Hospital.
X-ALT-DESC;FMTTYPE=text/html:Held the 2nd Tuesday of each month at UMC Hospital in the Board Room.\nAugust meeting guest speaker is from the Associates in Gastroenterology at Summit Hospital.
LOCATION:North off Lebanon Road on Baddour Parkway. Hospital is on left.
UID:e.2544.326
SEQUENCE:3
DTSTAMP:20260423T103851Z
URL:https://business.mjchamber.org/events/details/crohn-s-and-colitis-support-group-08-14-2012-326
END:VEVENT

END:VCALENDAR
